BEGIN:VCALENDAR
VERSION:2.0
PRODID:-//CARDIOARAGÓN - ECPv5.16.4//NONSGML v1.0//EN
CALSCALE:GREGORIAN
METHOD:PUBLISH
X-WR-CALNAME:CARDIOARAGÓN
X-ORIGINAL-URL:https://www.cardioaragon.com
X-WR-CALDESC:Eventos para CARDIOARAGÓN
BEGIN:VTIMEZONE
TZID:Europe/Madrid
BEGIN:DAYLIGHT
TZOFFSETFROM:+0100
TZOFFSETTO:+0200
TZNAME:CEST
DTSTART:20200329T010000
END:DAYLIGHT
BEGIN:STANDARD
TZOFFSETFROM:+0200
TZOFFSETTO:+0100
TZNAME:CET
DTSTART:20201025T010000
END:STANDARD
END:VTIMEZONE
BEGIN:VEVENT
DTSTART;VALUE=DATE:20201105
DTEND;VALUE=DATE:20201113
DTSTAMP:20260425T144152
CREATED:20200929T113333Z
LAST-MODIFIED:20220406T170539Z
UID:50061-1604534400-1605225599@www.cardioaragon.com
SUMMARY:27 Reunión Científica Sociedad Aragonesa Cardiología
DESCRIPTION:INFORMACIÓN \n						https://congreso2020.cardioaragon.com \nSECRETARIA TÉCNICA \nSociedad Aragonesa de Cardiología\nSecretaría Técnica: Nuria Castiella\nC/Eduardo Ibarra\, 6. Zaragoza\nTfno: 976 438889. 699 205037\nwww.cardioaragon.com – info@cardioaragon.com\n					\n				\n			\n			\n				\n				\n				\n				\n			\n				\n				\n				\n				\n				\n				\n				\n				\n				\n				\n				\n					\n					\n						Inscripciones y Comunicaciones\n						Para enviar Comunicaciones y realizar las inscripciones al Congreso\, visita la web del Congreso.\n					\n				\n			\n				Web Congreso SAC 2020\n			\n			\n				\n				\n				\n				\n			\n			 \n				\n				\n				\n				\n				\n				\n				\n				\n				\n				COMITÉ ORGANIZADOR-CIÉNTIFICO\nDra. Beatriz Ordóñez RubioPresidenta \nDra. Berta Daga CalejeroSecretaria \nDr. Antonio Miñano OyarzabalVicesecretario \nDr. Joaquín Aznar CostaTesorero \nDr. Ignacio Alins RamisVocal \nDr. Pablo Revilla MartíVocal \nDra. Georgina Fuertes FerréEditora Revista \nDra. Paula Morlanes Gracia Dr. Javier Jimeno SánchezVocales residentes \nDr. Carlos Ballester CuencaRepresentante Cirugía Cardiaca \nDra. Montserrat León LatreRepresentante AP \nDra. Antonela Lukic OtanovicPresidenta electa
URL:https://www.cardioaragon.com/evento/27-reunion-cientifica-sociedad-aragonesa-cardiologia/
LOCATION:EDICIÓN ONLINE
CATEGORIES:Congresos
ORGANIZER;CN="Sociedad%20Aragonesa%20de%20Cardiolog%C3%ADa":MAILTO:info@cardioaragon.com
END:VEVENT
END:VCALENDAR