BEGIN:VCALENDAR
VERSION:2.0
PRODID:-//CARDIOARAGÓN - ECPv5.16.4//NONSGML v1.0//EN
CALSCALE:GREGORIAN
METHOD:PUBLISH
X-WR-CALNAME:CARDIOARAGÓN
X-ORIGINAL-URL:https://www.cardioaragon.com
X-WR-CALDESC:Eventos para CARDIOARAGÓN
BEGIN:VTIMEZONE
TZID:Europe/Madrid
BEGIN:DAYLIGHT
TZOFFSETFROM:+0100
TZOFFSETTO:+0200
TZNAME:CEST
DTSTART:20080330T010000
END:DAYLIGHT
BEGIN:STANDARD
TZOFFSETFROM:+0200
TZOFFSETTO:+0100
TZNAME:CET
DTSTART:20081026T010000
END:STANDARD
END:VTIMEZONE
BEGIN:VEVENT
DTSTART;VALUE=DATE:20080929
DTEND;VALUE=DATE:20081001
DTSTAMP:20260420T144251
CREATED:20180412T085750Z
LAST-MODIFIED:20180521T090812Z
UID:2176-1222646400-1222819199@www.cardioaragon.com
SUMMARY:X Curso de actualización en Estimulación Cardiaca
DESCRIPTION:SECRETARÍA: Planta -1 .Edificio CRTQ Multifuncional. Extensión 51 40. \nMás información
URL:https://www.cardioaragon.com/evento/x-curso-de-actualizacion-en-estimulacion-cardiaca/
LOCATION:Salón de Actos – Planta 4ª Edificio Materno Infantil. Hospital Universitario Miguel Servet\, Hospital Universitario Miguel Servet\, Zaragoza\, Zaragoza\, 50009\, España
ORGANIZER;CN="Unidad%20de%20Estimulaci%C3%B3n%20Card%C3%ADaca.%20Servicio%20de%20Cardiolog%C3%ADa.%20Hospital%20Universitario%20Miguel%20Servet.%20Zaragoza.%20Salud.":MAILTO:informacion.sector2@salud.aragon.es
END:VEVENT
END:VCALENDAR